BEGIN:VCALENDAR
VERSION:2.0
PRODID:-//wp-events-plugin.com//7.2.3.1//EN
TZID:Europe/Rome
X-WR-TIMEZONE:Europe/Rome
BEGIN:VEVENT
UID:2@sanbartolomeointuto.it
DTSTART;TZID=Europe/Rome;VALUE=DATE:20241208
DTEND;TZID=Europe/Rome;VALUE=DATE:20241209
DTSTAMP:20241114T120543Z
URL:https://www.sanbartolomeointuto.it/events/solennita-immacolata-concezi
 one/
SUMMARY:Solennità Immacolata Concezione
DESCRIPTION:Per maggiori informazioni clicca qui.\n&nbsp\;
CATEGORIES:Eventi
LOCATION:Parrocchia San Bartolomeo in Tuto\, Via Gaetano Salvemini\, 2/2\, 
 Scandicci\, Firenze\, 50018\, Toscana\, Italia
X-APPLE-STRUCTURED-LOCATION;VALUE=URI;X-ADDRESS=Via Gaetano Salvemini\, 2/2
 \, Scandicci\, Firenze\, 50018\, Toscana\, Italia;X-APPLE-RADIUS=100;X-TIT
 LE=Parrocchia San Bartolomeo in Tuto:geo:0,0
END:VEVENT
BEGIN:VTIMEZONE
TZID:Europe/Rome
X-LIC-LOCATION:Europe/Rome
BEGIN:STANDARD
DTSTART:20241027T020000
TZOFFSETFROM:+0200
TZOFFSETTO:+0100
TZNAME:CET
END:STANDARD
END:VTIMEZONE
END:VCALENDAR