BEGIN:VCALENDAR
VERSION:2.0
PRODID:-//wp-events-plugin.com//7.2.3.1//EN
TZID:Europe/Rome
X-WR-TIMEZONE:Europe/Rome
BEGIN:VEVENT
UID:7@sanbartolomeointuto.it
DTSTART;TZID=Europe/Rome:20250106T160000
DTEND;TZID=Europe/Rome:20250106T190000
DTSTAMP:20250103T083803Z
URL:https://www.sanbartolomeointuto.it/events/san-bartolomeos-got-talent-l
 o-show-dei-talenti-della-parrocchia/
SUMMARY:San Bartolomeo's Got Talent - Lo show dei talenti della parrocchia
DESCRIPTION:San Bartolomeo's Got Talent - Lo show dei talenti della parrocc
 hia\nLunedì 6 Gennaio ore 16:00 nel salone assembleare\nBalli\, canti\, m
 usica e tanto divertimento! Dopo vi aspetta un'ottima cioccolata calda e i
 l pandoro!\nL'evento è organizzato dai ragazzi del 2006 del post-cresima:
  l'intero ricavato della serata servirà a finanziare il pellegrinaggio ch
 e concluderà il loro percorso di 6 anni: aiutiamoli a rendere possibile q
 uest'impresa!\nVi aspettiamo numerosi!
ATTACH;FMTTYPE=image/jpeg:https://www.sanbartolomeointuto.it/wp-content/up
 loads/2025/01/Venerdi-6-gennaio-ore-16.00-2.png
CATEGORIES:Eventi
END:VEVENT
BEGIN:VTIMEZONE
TZID:Europe/Rome
X-LIC-LOCATION:Europe/Rome
BEGIN:STANDARD
DTSTART:20241027T020000
TZOFFSETFROM:+0200
TZOFFSETTO:+0100
TZNAME:CET
END:STANDARD
END:VTIMEZONE
END:VCALENDAR