BEGIN:VCALENDAR
VERSION:2.0
PRODID:-//wp-events-plugin.com//7.2.3.1//EN
TZID:Europe/Rome
X-WR-TIMEZONE:Europe/Rome
BEGIN:VEVENT
UID:8@sanbartolomeointuto.it
DTSTART;TZID=Europe/Rome:20250110T181500
DTEND;TZID=Europe/Rome:20250110T191500
DTSTAMP:20250106T171521Z
URL:https://www.sanbartolomeointuto.it/events/incontro-sulla-sicurezza-con
 -larma-dei-carabinieri-di-scandicci/
SUMMARY:Incontro sulla Sicurezza con l'Arma dei Carabinieri di Scandicci
DESCRIPTION:Incontro sulla sicurezza Venerdì 10 Gennaio ore 18\,15 in parr
 occhia!\nL’arma dei Carabinieri sta da tempo intraprendendo una campagna
  di sensibilizzazione sui rischi di frode e i pericoli di truffa\, a cui t
 utti noi siamo sempre più esposti nella vita quotidiana e soprattutto nel
 l’uso dei dispositivi informatici e tecnologici.\nLa parrocchia collabor
 a con l’Arma dei Carabinieri nell’intento di diffondere informazione \
 , soprattutto tra gli anziani e i più fragili. Vi aspettiamo numerosi!
ATTACH;FMTTYPE=image/jpeg:https://www.sanbartolomeointuto.it/wp-content/up
 loads/2025/01/cyber-security-3400657_1280-e1736172689545.jpg
CATEGORIES:Eventi
LOCATION:Parrocchia di San Bartolomeo in Tuto - Sala Nartece\, Via Salvemin
 i 2/2 \, scandicci\, Firenze\, 50018\, Toscana\, Italia
X-APPLE-STRUCTURED-LOCATION;VALUE=URI;X-ADDRESS=Via Salvemini 2/2 \, scandi
 cci\, Firenze\, 50018\, Toscana\, Italia;X-APPLE-RADIUS=100;X-TITLE=Parroc
 chia di San Bartolomeo in Tuto - Sala Nartece:geo:0,0
END:VEVENT
BEGIN:VTIMEZONE
TZID:Europe/Rome
X-LIC-LOCATION:Europe/Rome
BEGIN:STANDARD
DTSTART:20241027T020000
TZOFFSETFROM:+0200
TZOFFSETTO:+0100
TZNAME:CET
END:STANDARD
END:VTIMEZONE
END:VCALENDAR