BEGIN:VCALENDAR
VERSION:2.0
PRODID:-//wp-events-plugin.com//7.2.3.1//EN
TZID:Europe/Rome
X-WR-TIMEZONE:Europe/Rome
BEGIN:VEVENT
UID:9@sanbartolomeointuto.it
DTSTART;TZID=Europe/Rome:20250209T113000
DTEND;TZID=Europe/Rome:20250209T160000
DTSTAMP:20250127T205826Z
URL:https://www.sanbartolomeointuto.it/events/giornata-del-malato-in-parro
 cchia/
SUMMARY:Giornata del Malato in Parrocchia
DESCRIPTION:Domenica 9 Febbraio 2025\nOre 11\,30 Messa - Sacramento dell'Un
 zione ai malati\na seguire --&gt\; Pranzo Parrocchiale offerto da Caritas\
 nSi invita tutti coloro che desiderano partecipare a prenotarsi in sacrest
 ia o in segreteria.\n
ATTACH;FMTTYPE=image/jpeg:https://www.sanbartolomeointuto.it/wp-content/up
 loads/2025/01/hand-3666974_1280-e1738011368552.jpg
CATEGORIES:Eventi
LOCATION:Parrocchia San Bartolomeo in Tuto\, Via Gaetano Salvemini\, 2/2\, 
 Scandicci\, Firenze\, 50018\, Toscana\, Italia
X-APPLE-STRUCTURED-LOCATION;VALUE=URI;X-ADDRESS=Via Gaetano Salvemini\, 2/2
 \, Scandicci\, Firenze\, 50018\, Toscana\, Italia;X-APPLE-RADIUS=100;X-TIT
 LE=Parrocchia San Bartolomeo in Tuto:geo:0,0
END:VEVENT
BEGIN:VTIMEZONE
TZID:Europe/Rome
X-LIC-LOCATION:Europe/Rome
BEGIN:STANDARD
DTSTART:20241027T020000
TZOFFSETFROM:+0200
TZOFFSETTO:+0100
TZNAME:CET
END:STANDARD
END:VTIMEZONE
END:VCALENDAR