BEGIN:VCALENDAR
VERSION:2.0
PRODID:-//wp-events-plugin.com//7.2.3.1//EN
TZID:Europe/Rome
X-WR-TIMEZONE:Europe/Rome
BEGIN:VEVENT
UID:10@sanbartolomeointuto.it
DTSTART;TZID=Europe/Rome:20251005T103000
DTEND;TZID=Europe/Rome:20251005T220000
DTSTAMP:20250920T090212Z
URL:https://www.sanbartolomeointuto.it/events/festa-di-inizio-anno-pastora
 le-2025/
SUMMARY:Festa di Inizio Anno Pastorale 2025
DESCRIPTION:\n                 Festa di Inizio Anno Pastorale 2025
 \n\n\n\n 	10.30 | Messa con mandato Operatori Pastorali\n 	15.00 | Animazi
 one\, baby-dance e laboratori per bambini                      
                                                  
                                             Apertura
  mercatino\, vendita torte e bar                            
                                                  
                                                  
                    Partita Fiorentina-Roma nel salone\n 	17.30 |
  Testimonianza di Don Bledar Xhuli Vicario di Zona - salone assembleare\n 
 	19.00 | Cena con Musica dal vivo nel piazzale.                  
                                                  
                                                  
                                   Iscrizione obbligatoria
  al link: https://forms.gle/RkJgxHsr6jhYxSze8\n\n\n\n\n
ATTACH;FMTTYPE=image/jpeg:https://www.sanbartolomeointuto.it/wp-content/up
 loads/2025/09/Festa-di-inizio-anno-pastorale.jpg
CATEGORIES:Eventi
END:VEVENT
BEGIN:VTIMEZONE
TZID:Europe/Rome
X-LIC-LOCATION:Europe/Rome
BEGIN:DAYLIGHT
DTSTART:20250330T030000
TZOFFSETFROM:+0100
TZOFFSETTO:+0200
TZNAME:CEST
END:DAYLIGHT
END:VTIMEZONE
END:VCALENDAR